BEGIN:VCALENDAR
VERSION:2.0
PRODID:-//MidsBears - ECPv6.15.20//NONSGML v1.0//EN
CALSCALE:GREGORIAN
METHOD:PUBLISH
X-WR-CALNAME:MidsBears
X-ORIGINAL-URL:https://www.midsbears.uk
X-WR-CALDESC:Events for MidsBears
REFRESH-INTERVAL;VALUE=DURATION:PT1H
X-Robots-Tag:noindex
X-PUBLISHED-TTL:PT1H
BEGIN:VTIMEZONE
TZID:Europe/London
BEGIN:DAYLIGHT
TZOFFSETFROM:+0000
TZOFFSETTO:+0100
TZNAME:BST
DTSTART:20240331T010000
END:DAYLIGHT
BEGIN:STANDARD
TZOFFSETFROM:+0100
TZOFFSETTO:+0000
TZNAME:GMT
DTSTART:20241027T010000
END:STANDARD
BEGIN:DAYLIGHT
TZOFFSETFROM:+0000
TZOFFSETTO:+0100
TZNAME:BST
DTSTART:20250330T010000
END:DAYLIGHT
BEGIN:STANDARD
TZOFFSETFROM:+0100
TZOFFSETTO:+0000
TZNAME:GMT
DTSTART:20251026T010000
END:STANDARD
BEGIN:DAYLIGHT
TZOFFSETFROM:+0000
TZOFFSETTO:+0100
TZNAME:BST
DTSTART:20260329T010000
END:DAYLIGHT
BEGIN:STANDARD
TZOFFSETFROM:+0100
TZOFFSETTO:+0000
TZNAME:GMT
DTSTART:20261025T010000
END:STANDARD
END:VTIMEZONE
BEGIN:VEVENT
DTSTART;TZID=Europe/London:20250926T160000
DTEND;TZID=Europe/London:20250928T233000
DTSTAMP:20260420T065117
CREATED:20250804T184119Z
LAST-MODIFIED:20250804T191327Z
UID:3115-1758902400-1759102200@www.midsbears.uk
SUMMARY:BEAR BRUM: BIGGER • BEARIER • BRUMMIER
DESCRIPTION:FRIDAY 26th\n Welcome To BEAR BRUM:Ease yourself in\, bab. 5pm – 7pm  The Fountain Inn\n Yogi’s Best Friend Race: Think speed dating but for friendship.  7pm – 8pm  The Fountain Inn\n Glow Ball: Get your glow sticks and your UV paints out and dance your tits off with DJ Ryan.  10pm  Eden Bar\n SATURDAY 27th\n(announcements coming soon)\n SUNDAY 28th\n BEARY BINGO:Unhinged fun with Pork Elizabeth Pie 1PM – 3PM  The FOX\n BIG BOY BBQ :A smokin’ good time – come hungry! 3PM – 4PM  Eden Bar Garden\n NO JUDGEMENT\, BAB: Donna Trump wraps up BEAR BRUM 4PM – 5PM  Eden Bar\nTimes\, dates and events are provisional and we might tweak them a little before the event. Information on tickets and prices at https://www.bearbrum.com 
URL:https://www.midsbears.uk/event/bear-brum-bigger-bearier-brummier/
CATEGORIES:External Event,In Collaboration with MidsBears
ATTACH;FMTTYPE=image/jpeg:https://www.midsbears.uk/wp-content/uploads/2025/08/504381308_122116078172909549_3167410534061668141_n.jpg
END:VEVENT
END:VCALENDAR