BEGIN:VCALENDAR
VERSION:2.0
PRODID:-//MidsBears - ECPv6.15.20//NONSGML v1.0//EN
CALSCALE:GREGORIAN
METHOD:PUBLISH
X-WR-CALNAME:MidsBears
X-ORIGINAL-URL:https://www.midsbears.uk
X-WR-CALDESC:Events for MidsBears
REFRESH-INTERVAL;VALUE=DURATION:PT1H
X-Robots-Tag:noindex
X-PUBLISHED-TTL:PT1H
BEGIN:VTIMEZONE
TZID:Europe/London
BEGIN:DAYLIGHT
TZOFFSETFROM:+0000
TZOFFSETTO:+0100
TZNAME:BST
DTSTART:20240331T010000
END:DAYLIGHT
BEGIN:STANDARD
TZOFFSETFROM:+0100
TZOFFSETTO:+0000
TZNAME:GMT
DTSTART:20241027T010000
END:STANDARD
BEGIN:DAYLIGHT
TZOFFSETFROM:+0000
TZOFFSETTO:+0100
TZNAME:BST
DTSTART:20250330T010000
END:DAYLIGHT
BEGIN:STANDARD
TZOFFSETFROM:+0100
TZOFFSETTO:+0000
TZNAME:GMT
DTSTART:20251026T010000
END:STANDARD
BEGIN:DAYLIGHT
TZOFFSETFROM:+0000
TZOFFSETTO:+0100
TZNAME:BST
DTSTART:20260329T010000
END:DAYLIGHT
BEGIN:STANDARD
TZOFFSETFROM:+0100
TZOFFSETTO:+0000
TZNAME:GMT
DTSTART:20261025T010000
END:STANDARD
END:VTIMEZONE
BEGIN:VEVENT
DTSTART;TZID=Europe/London:20250927T130000
DTEND;TZID=Europe/London:20250927T180000
DTSTAMP:20260420T064210
CREATED:20250804T190530Z
LAST-MODIFIED:20250927T113910Z
UID:3136-1758978000-1758996000@www.midsbears.uk
SUMMARY:Bear Brum Market
DESCRIPTION:Details TBC
URL:https://www.midsbears.uk/event/bear-brum-market/
LOCATION:Eden Bar\, 138 Gooch Street\, Birmingham\, United Kingdom
CATEGORIES:Market
END:VEVENT
END:VCALENDAR