BEGIN:VCALENDAR
VERSION:2.0
PRODID:-//MidsBears - ECPv6.15.20//NONSGML v1.0//EN
CALSCALE:GREGORIAN
METHOD:PUBLISH
X-WR-CALNAME:MidsBears
X-ORIGINAL-URL:https://www.midsbears.uk
X-WR-CALDESC:Events for MidsBears
REFRESH-INTERVAL;VALUE=DURATION:PT1H
X-Robots-Tag:noindex
X-PUBLISHED-TTL:PT1H
BEGIN:VTIMEZONE
TZID:Europe/London
BEGIN:DAYLIGHT
TZOFFSETFROM:+0000
TZOFFSETTO:+0100
TZNAME:BST
DTSTART:20240331T010000
END:DAYLIGHT
BEGIN:STANDARD
TZOFFSETFROM:+0100
TZOFFSETTO:+0000
TZNAME:GMT
DTSTART:20241027T010000
END:STANDARD
BEGIN:DAYLIGHT
TZOFFSETFROM:+0000
TZOFFSETTO:+0100
TZNAME:BST
DTSTART:20250330T010000
END:DAYLIGHT
BEGIN:STANDARD
TZOFFSETFROM:+0100
TZOFFSETTO:+0000
TZNAME:GMT
DTSTART:20251026T010000
END:STANDARD
BEGIN:DAYLIGHT
TZOFFSETFROM:+0000
TZOFFSETTO:+0100
TZNAME:BST
DTSTART:20260329T010000
END:DAYLIGHT
BEGIN:STANDARD
TZOFFSETFROM:+0100
TZOFFSETTO:+0000
TZNAME:GMT
DTSTART:20261025T010000
END:STANDARD
BEGIN:DAYLIGHT
TZOFFSETFROM:+0000
TZOFFSETTO:+0100
TZNAME:BST
DTSTART:20270328T010000
END:DAYLIGHT
BEGIN:STANDARD
TZOFFSETFROM:+0100
TZOFFSETTO:+0000
TZNAME:GMT
DTSTART:20271031T010000
END:STANDARD
END:VTIMEZONE
BEGIN:VEVENT
DTSTART;TZID=Europe/London:20251130T110000
DTEND;TZID=Europe/London:20251130T130000
DTSTAMP:20260420T002659
CREATED:20250804T184856Z
LAST-MODIFIED:20250804T185759Z
UID:3125-1764500400-1764507600@www.midsbears.uk
SUMMARY:Coffee Morning
DESCRIPTION:Join Us for the Midsbears Coffee Morning! \nWe’re excited to invite you to the Midsbears Coffee Morning from 11am to 1pm!\nCome along for a relaxed morning of: Delicious cakes & treats Hot drinks and friendly chats Great company and a warm community vibe\nWhether you’re a regular or it’s your first time\, everyone is welcome — bring a friend (or two)!\n Wayland’s Yard\, 42 Bull St\, Birmingham B4 6AF 11:00 AM – 1:00 PM\nWe’d love to see you there! #Midsbears #CoffeeMorning #CommunityEvent #TeaAndChat
URL:https://www.midsbears.uk/event/coffee-morning-4/
LOCATION:Waylands Yard\, 42 Bull Street\, Birmingham\, B4 6AF\, United Kingdom
CATEGORIES:Coffee Morning
ATTACH;FMTTYPE=image/jpeg:https://www.midsbears.uk/wp-content/uploads/2025/08/526729198_10162006914012462_1461440759059569723_n-scaled.jpg
ORGANIZER;CN="MidsBears":MAILTO:members@midsbears.uk
END:VEVENT
BEGIN:VEVENT
DTSTART;TZID=Europe/London:20260227T220000
DTEND;TZID=Europe/London:20260228T030000
DTSTAMP:20260420T002659
CREATED:20260107T112657Z
LAST-MODIFIED:20260108T143852Z
UID:3204-1772229600-1772247600@www.midsbears.uk
SUMMARY:BEARALL
DESCRIPTION:Men only fetish club night \nBEARALL is a raw\, no-compromise night for men who like it dark\, sweaty\, and unapologetically fetish-forward. A serious underground space where music\, all body types\, and boundaries all matter. \nSpaces \nMain Room  \nHigh-energy DJ-led club feel with a mix of great music. Packed floor\, heavy beats\, and full club atmosphere. \nThe Vault  \nDark room and cruising area. \nLow light\, high heat. \nPhotos and video are not promoted in this space. \n Outdoor Area  \nSmoking and vaping area. \nSummer only: outdoor cruising tent. \nDress Code  \nWhat you wear is your choice everybody is welcome no matter if you are in to the fetish wear scene or not. \nFetish gear is  welcomed — harnesses\, jocks\, singlets\, boots… or nothing at all. \nFacilities  \nChanging available via toilet facilities \nCloakroom available (paid) \nFull bar serving alcoholic and non-alcoholic drinks \nHouse Rules \nNo means no — consent is mandatory \nZero tolerance on drugs \nRespect the space\, Event staff will be clearly identifiable by lanyards.
URL:https://www.midsbears.uk/event/bearall/
LOCATION:The Hub @ Eden Bar\, 213 Gooch Street\, Birmingham\, B5 7JG\, United Kingdom
ORGANIZER;CN="MidsBears":MAILTO:members@midsbears.uk
END:VEVENT
BEGIN:VEVENT
DTSTART;TZID=Europe/London:20260403T220000
DTEND;TZID=Europe/London:20260404T030000
DTSTAMP:20260420T002659
CREATED:20260107T114019Z
LAST-MODIFIED:20260323T110705Z
UID:3211-1775253600-1775271600@www.midsbears.uk
SUMMARY:BEARALL - TRADIES EDITION
DESCRIPTION:  \n  \n  \n  \n  \n  \n  \n\nMen only fetish club night \nBEAR ALL is a raw\, no-compromise night for men who like it dark\, sweaty\, and unapologetically fetish-forward. A serious underground space where music\, all body types\, and boundaries all matter. \nSpaces\nMain Room \nHigh-energy DJ-led club feel with a mix of great music. Packed floor\, heavy beats\, and full club atmosphere. \nThe Vault \nDark room and cruising area. \nLow light\, high heat. \nPhotos and video are not promoted in this space. \nOutdoor Area \nSmoking and vaping area. \nSummer only: outdoor cruising tent. \nDress Code \nWhat you wear is your choice everybody is welcome no matter if you are in to the fetish wear scene or not. \nFetish gear is  welcomed — harnesses\, jocks\, singlets\, boots… or nothing at all. \nFacilities \nChanging available via toilet facilities \nCloakroom available (paid) \nFull bar serving alcoholic and non-alcoholic drinks \nHouse Rules \nNo means no — consent is mandatory \nZero tolerance on drugs \nRespect the space\, Event staff will be clearly identifiable by lanyards
URL:https://www.midsbears.uk/event/bearall-2/
LOCATION:The Hub @ Eden Bar\, 213 Gooch Street\, Birmingham\, B5 7JG\, United Kingdom
CATEGORIES:Bear All
ORGANIZER;CN="MidsBears":MAILTO:members@midsbears.uk
END:VEVENT
BEGIN:VEVENT
DTSTART;TZID=Europe/London:20260731T220000
DTEND;TZID=Europe/London:20260801T030000
DTSTAMP:20260420T002659
CREATED:20260107T114528Z
LAST-MODIFIED:20260107T115104Z
UID:3213-1785535200-1785553200@www.midsbears.uk
SUMMARY:BEAR ALL
DESCRIPTION:Men only fetish club night \nBEARALL is a raw\, no-compromise night for men who like it dark\, sweaty\, and unapologetically fetish-forward. A serious underground space where music\, all body types\, and boundaries all matter. \nSpaces\nMain Room \nHigh-energy DJ-led club feel with a mix of great music. Packed floor\, heavy beats\, and full club atmosphere. \nThe Vault \nDark room and cruising area. \nLow light\, high heat. \nPhotos and video are not promoted in this space. \nOutdoor Area \nSmoking and vaping area. \nSummer only: outdoor cruising tent. \nDress Code \nWhat you wear is your choice everybody is welcome no matter if you are in to the fetish wear scene or not. \nFetish gear is  welcomed — harnesses\, jocks\, singlets\, boots… or nothing at all. \nFacilities \nChanging available via toilet facilities \nCloakroom available (paid) \nFull bar serving alcoholic and non-alcoholic drinks \nHouse Rules \nNo means no — consent is mandatory \nZero tolerance on drugs \nRespect the space\, Event staff will be clearly identifiable by lanyards.
URL:https://www.midsbears.uk/event/3213/
LOCATION:The Hub @ Eden Bar\, 213 Gooch Street\, Birmingham\, B5 7JG\, United Kingdom
ORGANIZER;CN="MidsBears":MAILTO:members@midsbears.uk
END:VEVENT
END:VCALENDAR