BEGIN:VCALENDAR
VERSION:2.0
PRODID:-//MidsBears - ECPv6.15.20//NONSGML v1.0//EN
CALSCALE:GREGORIAN
METHOD:PUBLISH
X-ORIGINAL-URL:https://www.midsbears.uk
X-WR-CALDESC:Events for MidsBears
REFRESH-INTERVAL;VALUE=DURATION:PT1H
X-Robots-Tag:noindex
X-PUBLISHED-TTL:PT1H
BEGIN:VTIMEZONE
TZID:Europe/London
BEGIN:DAYLIGHT
TZOFFSETFROM:+0000
TZOFFSETTO:+0100
TZNAME:BST
DTSTART:20240331T010000
END:DAYLIGHT
BEGIN:STANDARD
TZOFFSETFROM:+0100
TZOFFSETTO:+0000
TZNAME:GMT
DTSTART:20241027T010000
END:STANDARD
BEGIN:DAYLIGHT
TZOFFSETFROM:+0000
TZOFFSETTO:+0100
TZNAME:BST
DTSTART:20250330T010000
END:DAYLIGHT
BEGIN:STANDARD
TZOFFSETFROM:+0100
TZOFFSETTO:+0000
TZNAME:GMT
DTSTART:20251026T010000
END:STANDARD
BEGIN:DAYLIGHT
TZOFFSETFROM:+0000
TZOFFSETTO:+0100
TZNAME:BST
DTSTART:20260329T010000
END:DAYLIGHT
BEGIN:STANDARD
TZOFFSETFROM:+0100
TZOFFSETTO:+0000
TZNAME:GMT
DTSTART:20261025T010000
END:STANDARD
END:VTIMEZONE
BEGIN:VEVENT
DTSTART;TZID=Europe/London:20250831T110000
DTEND;TZID=Europe/London:20250831T130000
DTSTAMP:20260420T033016
CREATED:20250804T183151Z
LAST-MODIFIED:20250804T185828Z
UID:3106-1756638000-1756645200@www.midsbears.uk
SUMMARY:Coffee Morning
DESCRIPTION:Join Us for the Midsbears Coffee Morning! \nWe’re excited to invite you to the Midsbears Coffee Morning from 11am to 1pm!\nCome along for a relaxed morning of: Delicious cakes & treats Hot drinks and friendly chats Great company and a warm community vibe\nWhether you’re a regular or it’s your first time\, everyone is welcome — bring a friend (or two)!\n Wayland’s Yard\, 42 Bull St\, Birmingham B4 6AF 11:00 AM – 1:00 PM\nWe’d love to see you there! #Midsbears #CoffeeMorning #CommunityEvent #TeaAndChat
URL:https://www.midsbears.uk/event/coffee-morning/
LOCATION:Waylands Yard\, 42 Bull Street\, Birmingham\, B4 6AF\, United Kingdom
CATEGORIES:Coffee Morning
ATTACH;FMTTYPE=image/jpeg:https://www.midsbears.uk/wp-content/uploads/2025/08/526729198_10162006914012462_1461440759059569723_n-scaled.jpg
ORGANIZER;CN="MidsBears":MAILTO:members@midsbears.uk
END:VEVENT
END:VCALENDAR